BEGIN:VCALENDAR
VERSION:2.0
PRODID:-//Max 98.3 - ECPv4.6.26//NONSGML v1.0//EN
CALSCALE:GREGORIAN
METHOD:PUBLISH
X-WR-CALNAME:Max 98.3
X-ORIGINAL-URL:https://max983.ca
X-WR-CALDESC:Events for Max 98.3
BEGIN:VEVENT
DTSTART;TZID=America/Halifax:20250717T110000
DTEND;TZID=America/Halifax:20250717T170000
DTSTAMP:20260419T235745
CREATED:20250717T092356Z
LAST-MODIFIED:20250717T092438Z
UID:14915-1752750000-1752771600@max983.ca
SUMMARY:🎉Plummer Ave Day! 🎉
DESCRIPTION:Join us for one of Cape Bretons’ BIGGEST block parties!! Sponsored by the Coal Dust Days Society in partnership with the CBRM Recreation and community partners. All activities will take place on the main drag! Enjoy games\, prizes\, Community booths and seeing old and new faces!! *set up times for vendors is 9:00am*\n\nAn awesome lineup of entertainment is happening on the main stage including talented Jack Hardy Elvis Tribute Artist\, In the Mood\, and a Pizza Eating Contest at 430pm sponsored by Big Daddy’s Pizza!! Don’t forget to join us on Plummer Ave for the evening event!!\n
URL:https://max983.ca/event/%f0%9f%8e%89plummer-ave-day-%f0%9f%8e%89/
END:VEVENT
END:VCALENDAR