BEGIN:VCALENDAR
VERSION:2.0
PRODID:-//Max 98.3 - ECPv4.6.26//NONSGML v1.0//EN
CALSCALE:GREGORIAN
METHOD:PUBLISH
X-WR-CALNAME:Max 98.3
X-ORIGINAL-URL:https://max983.ca
X-WR-CALDESC:Events for Max 98.3
BEGIN:VEVENT
DTSTART;TZID=America/Halifax:20191108T190000
DTEND;TZID=America/Halifax:20191108T220000
DTSTAMP:20260419T185411
CREATED:20191022T171315Z
LAST-MODIFIED:20191022T171315Z
UID:6848-1573239600-1573250400@max983.ca
SUMMARY:2019 Vital Excellence Awards
DESCRIPTION:Event: 2019 Vital Excellence Awards                                                                                                                                                                 Date: Friday November 8th\, 2019                                                                                                                                                                       Time: 7pm-10pm                                                                                                                                                                                              Location: Centre 200 \nDescription: \nThe Vital Awards is an event which brings people together to recognize the success and talents of our region’s exceptional youth between the ages of 16 and 40\, as well as employers who create rewarding work environments for young professionals. We feel it is extremely important to recognize and celebrate the youth who are working towards a vibrant future for Cape Breton Island. \nThe event celebrates winners from three categories: \n\nVital Excellence Award: Recognizes individuals who have played a vital role in their community through volunteerism\, culture\, innovation\, etc.\nVital Employer Award: Recognizes employers who have played a vital role in providing rewarding work opportunities to youth on Cape Breton Island.\nVital Employee Award: Employers can nominate an employee who plays a vital role in their workplace.\n\nOver the last 5 years\, the Vital Awards has attracted attendees such as: \n\nLeaders in business and innovation\nBusiness professionals from various industries\nPast Vital Award winners and nominees\nCommunity-minded individuals and volunteers\n\n
URL:https://max983.ca/event/2019-vital-excellence-awards/
END:VEVENT
END:VCALENDAR