BEGIN:VCALENDAR
VERSION:2.0
PRODID:-//Max 98.3 - ECPv4.6.26//NONSGML v1.0//EN
CALSCALE:GREGORIAN
METHOD:PUBLISH
X-WR-CALNAME:Max 98.3
X-ORIGINAL-URL:https://max983.ca
X-WR-CALDESC:Events for Max 98.3
BEGIN:VEVENT
DTSTART;TZID=America/Halifax:20170920T140000
DTEND;TZID=America/Halifax:20170920T160000
DTSTAMP:20260420T092343
CREATED:20170905T182732Z
LAST-MODIFIED:20170905T182732Z
UID:3141-1505916000-1505923200@max983.ca
SUMMARY:45's Card Game
DESCRIPTION:45’s Card Game will be held at The Mira Seniors & Pensioners Centre\, Marion Bridge on Wednesday\, September 20\, 2017 from 2 PM – 4 PM.  All are welcome! \n
URL:https://max983.ca/event/45s-card-game-10/
END:VEVENT
END:VCALENDAR