BEGIN:VCALENDAR
VERSION:2.0
PRODID:-//Max 98.3 - ECPv4.6.26//NONSGML v1.0//EN
CALSCALE:GREGORIAN
METHOD:PUBLISH
X-WR-CALNAME:Max 98.3
X-ORIGINAL-URL:https://max983.ca
X-WR-CALDESC:Events for Max 98.3
BEGIN:VEVENT
DTSTART;TZID=Africa/Abidjan:20170521T105000
DTEND;TZID=Africa/Abidjan:20170521T105000
DTSTAMP:20260420T214530
CREATED:20170510T161639Z
LAST-MODIFIED:20170510T162642Z
UID:2593-1495363800-1495363800@max983.ca
SUMMARY:8th Annual New Harris Run Walk or Crawl
DESCRIPTION:New Harris Run Walk or Crawl \n5 – 10 K New Harris Road\, Patient Care Walk or Run. \n10 AM start at Summer Snow\, Yellow A-Frame 7 KM up the New Harris Road\, at the base of Kelly’s Mountain.  The run is free but donations will be accepted for the Patient Care Fund at the Cape Breton Cancer Centre. Refreshments and a snack will be served afterwards at Summer Snow free for all. \nRunning or Walking is your choice.  Come and enjoy an old winding country road that has beautiful tree covered canopies that stretch along your journey and opens to spectacular views of the Bras d’Or Lakes.  You can take your time or go fast\, do it all or only a section and we will pick you up in golf carts.  After the event\, meet us for a snack and refreshments. \nFor more information\, visit our website www.newharrisrun.ca or feel free to contact Deedee or David at daiwao@gmail.com or call 902-539-3570 or Ronelda at 902-562-7934. \n
URL:https://max983.ca/event/8th-annual-new-harris-run-walk-or-crawl/
END:VEVENT
END:VCALENDAR