BEGIN:VCALENDAR
VERSION:2.0
PRODID:-//Max 98.3 - ECPv4.6.26//NONSGML v1.0//EN
CALSCALE:GREGORIAN
METHOD:PUBLISH
X-WR-CALNAME:Max 98.3
X-ORIGINAL-URL:https://max983.ca
X-WR-CALDESC:Events for Max 98.3
BEGIN:VEVENT
DTSTART;TZID=America/Halifax:20170603T120000
DTEND;TZID=America/Halifax:20170603T150000
DTSTAMP:20260419T235323
CREATED:20170530T163021Z
LAST-MODIFIED:20170530T163021Z
UID:2712-1496491200-1496502000@max983.ca
SUMMARY:ALS WalkStrong 2017
DESCRIPTION:The ALS WalkStrong 2017 walk will be held Saturday June 3/17 at the New Waterford Fire Hall. Funds raised support the ALS Society on NS & NB Equipment Loan Program for patients with ALS as well as Local Maritime Research. Registration begins at 11am and the walk begins at 12 noon. For more info visit www.alswalkstrong.ca \n
URL:https://max983.ca/event/als-walkstrong-2017/
END:VEVENT
END:VCALENDAR