BEGIN:VCALENDAR
VERSION:2.0
PRODID:-//Max 98.3 - ECPv4.6.26//NONSGML v1.0//EN
CALSCALE:GREGORIAN
METHOD:PUBLISH
X-WR-CALNAME:Max 98.3
X-ORIGINAL-URL:https://max983.ca
X-WR-CALDESC:Events for Max 98.3
BEGIN:VEVENT
DTSTART;TZID=America/Halifax:20170820T140000
DTEND;TZID=America/Halifax:20170820T150000
DTSTAMP:20260424T141506
CREATED:20170809T183557Z
LAST-MODIFIED:20170809T183557Z
UID:3063-1503237600-1503241200@max983.ca
SUMMARY:Annual Cemetery Service
DESCRIPTION:St. Luke’s Anglican Church Port Caledonia are having their Annual Cemetery Service at St. Luke’s Cemetery Port Caledonia on Sunday\, August 20\, 2017 at 2 PM at the cemetery. \nIn case of inclement weather the Service will be held in Church \n
URL:https://max983.ca/event/annual-cemetery-service/
END:VEVENT
END:VCALENDAR