BEGIN:VCALENDAR
VERSION:2.0
PRODID:-//Max 98.3 - ECPv4.6.26//NONSGML v1.0//EN
CALSCALE:GREGORIAN
METHOD:PUBLISH
X-WR-CALNAME:Max 98.3
X-ORIGINAL-URL:https://max983.ca
X-WR-CALDESC:Events for Max 98.3
BEGIN:VEVENT
DTSTART;TZID=America/Halifax:20180612T120000
DTEND;TZID=America/Halifax:20180612T133000
DTSTAMP:20260420T233334
CREATED:20180604T171637Z
LAST-MODIFIED:20180604T171637Z
UID:3711-1528804800-1528810200@max983.ca
SUMMARY:Annual General Meeting
DESCRIPTION:Island Community Justice Society will be having its Annual General Meeting at the Salvation Army Sydney Community Church on Tuesday\, June 12\, 2018 at 12:00 pm with a light lunch beginning at 11:45 am. Please RSVP by Friday\, June 8 by calling 902-563-2596. Thank you. \n
URL:https://max983.ca/event/annual-general-meeting/
END:VEVENT
END:VCALENDAR