BEGIN:VCALENDAR
VERSION:2.0
PRODID:-//Max 98.3 - ECPv4.6.26//NONSGML v1.0//EN
CALSCALE:GREGORIAN
METHOD:PUBLISH
X-WR-CALNAME:Max 98.3
X-ORIGINAL-URL:https://max983.ca
X-WR-CALDESC:Events for Max 98.3
BEGIN:VEVENT
DTSTART;TZID=America/Halifax:20170812T160000
DTEND;TZID=America/Halifax:20170812T180000
DTSTAMP:20260425T032333
CREATED:20170802T182746Z
LAST-MODIFIED:20170802T182746Z
UID:3053-1502553600-1502560800@max983.ca
SUMMARY:Annual Masonic Supper
DESCRIPTION:Annual Masonic Supper\, Heather Lodge #124\, Saturday\, August 12\, 2017 from 4 PM – 6 PM\, Framboise Hall.  Ham and Scallop Potatoes and Dessert for $10.  Eat In or Take Out. \n
URL:https://max983.ca/event/annual-masonic-supper/
END:VEVENT
END:VCALENDAR