BEGIN:VCALENDAR
VERSION:2.0
PRODID:-//Max 98.3 - ECPv4.6.26//NONSGML v1.0//EN
CALSCALE:GREGORIAN
METHOD:PUBLISH
X-WR-CALNAME:Max 98.3
X-ORIGINAL-URL:https://max983.ca
X-WR-CALDESC:Events for Max 98.3
BEGIN:VEVENT
DTSTART;VALUE=DATE:20170302
DTEND;VALUE=DATE:20170303
DTSTAMP:20260423T235108
CREATED:20170216T212618Z
LAST-MODIFIED:20170216T212618Z
UID:1946-1488412800-1488499199@max983.ca
SUMMARY:Anti-stigma Public Talk
DESCRIPTION:Anti-stigma Public Talk\nThursday\, March 2nd 2017 \n2:00 pm – 3:00 pm\nCape Breton University\, Multiversity Room\nGuest Speaker: Christine Porter\, Executive Director of The Ally Centre of Cape Breton \n
URL:https://max983.ca/event/anti-stigma-public-talk/
END:VEVENT
END:VCALENDAR