BEGIN:VCALENDAR
VERSION:2.0
PRODID:-//Max 98.3 - ECPv4.6.26//NONSGML v1.0//EN
CALSCALE:GREGORIAN
METHOD:PUBLISH
X-WR-CALNAME:Max 98.3
X-ORIGINAL-URL:https://max983.ca
X-WR-CALDESC:Events for Max 98.3
BEGIN:VEVENT
DTSTART;TZID=America/Halifax:20170722T110000
DTEND;TZID=America/Halifax:20170722T130000
DTSTAMP:20260424T160450
CREATED:20170712T131400Z
LAST-MODIFIED:20170712T131400Z
UID:2952-1500721200-1500728400@max983.ca
SUMMARY:Barra Strait Waterfront Market
DESCRIPTION:Saturday July 22\, 11am-1pm\, there will be a Market in Grand Narrows at the Waterfront. Includes local photography\, pottery\, local crafts\, barbeque and cafe specials at the Wheelhouse Cafe. \n
URL:https://max983.ca/event/barra-strait-waterfront-market/
END:VEVENT
END:VCALENDAR