BEGIN:VCALENDAR
VERSION:2.0
PRODID:-//Max 98.3 - ECPv4.6.26//NONSGML v1.0//EN
CALSCALE:GREGORIAN
METHOD:PUBLISH
X-WR-CALNAME:Max 98.3
X-ORIGINAL-URL:https://max983.ca
X-WR-CALDESC:Events for Max 98.3
BEGIN:VEVENT
DTSTART;TZID=America/Halifax:20171001T140000
DTEND;TZID=America/Halifax:20171001T160000
DTSTAMP:20260419T205218
CREATED:20170928T172151Z
LAST-MODIFIED:20170928T172151Z
UID:3285-1506866400-1506873600@max983.ca
SUMMARY:Blessing of the Animals
DESCRIPTION:The Parish’s of Resurrection and St. Marguerite Bourgeoys are hosting a Blessing of The Animals at 2 pm on Sunday October 1st at the Bandshell in Wentworth Park in Sydney. All types of pets and people are welcome! \n
URL:https://max983.ca/event/blessing-of-the-animals/
END:VEVENT
END:VCALENDAR