BEGIN:VCALENDAR
VERSION:2.0
PRODID:-//Max 98.3 - ECPv4.6.26//NONSGML v1.0//EN
CALSCALE:GREGORIAN
METHOD:PUBLISH
X-WR-CALNAME:Max 98.3
X-ORIGINAL-URL:https://max983.ca
X-WR-CALDESC:Events for Max 98.3
BEGIN:VEVENT
DTSTART;VALUE=DATE:20230703
DTEND;VALUE=DATE:20230706
DTSTAMP:20260424T022525
CREATED:20230626T174306Z
LAST-MODIFIED:20230626T174306Z
UID:12896-1688342400-1688601599@max983.ca
SUMMARY:Book Mark Contest
DESCRIPTION:Glace Bay Library \nJuly 3 – 5 \n10am – 7pm \nDrop by the library and create a bookmark.  Winners will have their bookmark printed and available at the circulation desk.  Contest closes Wednesday at 7pm. \n  \n
URL:https://max983.ca/event/book-mark-contest/
END:VEVENT
END:VCALENDAR