BEGIN:VCALENDAR
VERSION:2.0
PRODID:-//Max 98.3 - ECPv4.6.26//NONSGML v1.0//EN
CALSCALE:GREGORIAN
METHOD:PUBLISH
X-WR-CALNAME:Max 98.3
X-ORIGINAL-URL:https://max983.ca
X-WR-CALDESC:Events for Max 98.3
BEGIN:VEVENT
DTSTART;TZID=America/Halifax:20260506T180000
DTEND;TZID=America/Halifax:20260506T190000
DTSTAMP:20260420T232212
CREATED:20260420T175204Z
LAST-MODIFIED:20260420T175204Z
UID:15643-1778090400-1778094000@max983.ca
SUMMARY:Butterfly Magnets
DESCRIPTION:Glace Bay Library \nWed May 6     6-7pm. \nMake some Spring butterfly magnets. Registration Required\, email glacebay@cbrl.ca or phone 902-849-8657 \n  \n
URL:https://max983.ca/event/butterfly-magnets/
END:VEVENT
END:VCALENDAR