BEGIN:VCALENDAR
VERSION:2.0
PRODID:-//Max 98.3 - ECPv4.6.26//NONSGML v1.0//EN
CALSCALE:GREGORIAN
METHOD:PUBLISH
X-WR-CALNAME:Max 98.3
X-ORIGINAL-URL:https://max983.ca
X-WR-CALDESC:Events for Max 98.3
BEGIN:VEVENT
DTSTART;TZID=America/Halifax:20220701T080000
DTEND;TZID=America/Halifax:20220701T110000
DTSTAMP:20260424T114534
CREATED:20220620T132403Z
LAST-MODIFIED:20220620T132729Z
UID:11731-1656662400-1656673200@max983.ca
SUMMARY:Canada Day Breakfast\, Bake Sale and Flea Market
DESCRIPTION:Canada Day Breakfast\, Bake Sale and flea market on Friday July 1 at the MIRA CENTRE in MARION BRIDGE from 8:00 to 11:00 am with eggs\, ham\, home fries\, toast\, juice and tea or coffee. \nAdults $ 12 Children $ 6 \nAnyone wanting a table for the flea market contact Beth at 902-727-2325 \n
URL:https://max983.ca/event/canada-day-breakfast-bake-sale-and-flea-market/
LOCATION:Super Saturday – Fiber Crafts
END:VEVENT
END:VCALENDAR