BEGIN:VCALENDAR
VERSION:2.0
PRODID:-//Max 98.3 - ECPv4.6.26//NONSGML v1.0//EN
CALSCALE:GREGORIAN
METHOD:PUBLISH
X-WR-CALNAME:Max 98.3
X-ORIGINAL-URL:https://max983.ca
X-WR-CALDESC:Events for Max 98.3
BEGIN:VEVENT
DTSTART;TZID=America/Halifax:20190701T080000
DTEND;TZID=America/Halifax:20190701T170000
DTSTAMP:20260424T143706
CREATED:20190611T123828Z
LAST-MODIFIED:20190611T124008Z
UID:6226-1561968000-1562000400@max983.ca
SUMMARY:Mira Seniors' and Pensioners' Canada Day Celebrations
DESCRIPTION:On Monday\, July 1st\, Mira Centre hosts our Canada Day Breakfast. Adults $10.00\, children under 12 $5.00. Doors open at 8:00 a.m. We serve scrambled eggs\, sausage\, ham\, potatoes\, toast\, tea or coffee. A great deal on breakfast before you start your busy day of celebration. Sit a spell and enjoy some of the best scenery in Cape Breton on the beautiful Mira River at the bridge in Marion Bridge \nAgain on Monday\, July 1st\, Mira Centre will have Beef on a Bun with doors opening at 3:00 p.m. Cost is $5.00. Come in\, relax\, and enjoy a quick meal.  \n  \n  \n
URL:https://max983.ca/event/canada-day-breakfast/
END:VEVENT
END:VCALENDAR