BEGIN:VCALENDAR
VERSION:2.0
PRODID:-//Max 98.3 - ECPv4.6.26//NONSGML v1.0//EN
CALSCALE:GREGORIAN
METHOD:PUBLISH
X-WR-CALNAME:Max 98.3
X-ORIGINAL-URL:https://max983.ca
X-WR-CALDESC:Events for Max 98.3
BEGIN:VEVENT
DTSTART;TZID=America/Halifax:20170825T080000
DTEND;TZID=America/Halifax:20170827T170000
DTSTAMP:20260424T095948
CREATED:20170621T134737Z
LAST-MODIFIED:20170621T134737Z
UID:2852-1503648000-1503853200@max983.ca
SUMMARY:Cape Breton Drag Racing
DESCRIPTION:Cape Breton Drag Racing 1/8 Mile Racing 2017 at Victoria Junction off Sydney-Glace Bay Highway.  Race Dates:  June 25 & 25\, July 21\, 22 & 23\, Aug 12 Sport compact\, Aug 25\, 26 & 27 and Sept 16 & 17.  Gates Open 8 AM. \nSaturday Pass $10\, Sunday Pass $15\, Weekend Pass $20.  Family Weekend Pass $40 (2 adults and 2 under 14)\, 8 and under free when with Adult \n
URL:https://max983.ca/event/cape-breton-drag-racing-4/
END:VEVENT
END:VCALENDAR