BEGIN:VCALENDAR
VERSION:2.0
PRODID:-//Max 98.3 - ECPv4.6.26//NONSGML v1.0//EN
CALSCALE:GREGORIAN
METHOD:PUBLISH
X-WR-CALNAME:Max 98.3
X-ORIGINAL-URL:https://max983.ca
X-WR-CALDESC:Events for Max 98.3
BEGIN:VEVENT
DTSTART;VALUE=DATE:20190817
DTEND;VALUE=DATE:20190818
DTSTAMP:20260425T191319
CREATED:20190725T172917Z
LAST-MODIFIED:20190725T172917Z
UID:6465-1566000000-1566086399@max983.ca
SUMMARY:CAPERBASE Fundraising Fun Weekend
DESCRIPTION:Bay Boys MRC and Brotherhood of Bikers RC presents CAPERBASE Fundraising Fun Weekend. \nTo raise funds and awareness for Youth and Child Adolescents Mental Health. \nAugust 17 & 18\, 2019 \nRide for Bikes\, Activities for Kids\, Silent Auction\, Hotdogs\, Show & Shine\, Information Booths\, Live Music and Dancing for Main Event (After Hours) \nRide for Bikes registration 930 AM\, 1030 AM run starts \nShow & Shine\, 2 PM \nLocation:  Convergy’s Parking Lot\, Glace Bay \n
URL:https://max983.ca/event/caperbase-fundraising-fun-weekend/
END:VEVENT
END:VCALENDAR