BEGIN:VCALENDAR
VERSION:2.0
PRODID:-//Max 98.3 - ECPv4.6.26//NONSGML v1.0//EN
CALSCALE:GREGORIAN
METHOD:PUBLISH
X-WR-CALNAME:Max 98.3
X-ORIGINAL-URL:https://max983.ca
X-WR-CALDESC:Events for Max 98.3
BEGIN:VEVENT
DTSTART;TZID=America/Halifax:20190511T180000
DTEND;TZID=America/Halifax:20190511T210000
DTSTAMP:20260422T193923
CREATED:20190425T121331Z
LAST-MODIFIED:20190425T121331Z
UID:5922-1557597600-1557608400@max983.ca
SUMMARY:CB Sledgehammers Fundraising Auction
DESCRIPTION:Our Annual fundraising auction is on May 11 at Grand lake road fire hall. Viewing starts  at 6pm auction starts at 7pm . \nAuction Items are added daily and can be seen on our FB events page “Cape Breton Sledgehammers Annual Fundraising Auction ” Tickets can be bought from players coaches and family members or pay at the door.$10 inc pizza slice and beverage. \nThis is the only Para-hockey team in CB and we get amazed by the generosity ever year from the community giving donations\,and people attending our only fundraiser.Great BIG THANK YOU from all at The Sledgehammers \n
URL:https://max983.ca/event/cb-sledgehammers-fundraising-auction/
END:VEVENT
END:VCALENDAR