BEGIN:VCALENDAR
VERSION:2.0
PRODID:-//Max 98.3 - ECPv4.6.26//NONSGML v1.0//EN
CALSCALE:GREGORIAN
METHOD:PUBLISH
X-WR-CALNAME:Max 98.3
X-ORIGINAL-URL:https://max983.ca
X-WR-CALDESC:Events for Max 98.3
BEGIN:VEVENT
DTSTART;TZID=America/Halifax:20170929T190000
DTEND;TZID=America/Halifax:20170929T210000
DTSTAMP:20260419T171959
CREATED:20170912T133652Z
LAST-MODIFIED:20170912T133717Z
UID:3167-1506711600-1506718800@max983.ca
SUMMARY:Children's Wish Foundation Paint Night
DESCRIPTION:The Children’s Wish Foundation has organized a paint night on September 29th 7-9 at the Dobson Yacht club in Westmount hosted by Professional Artist Nancy Chaisson.  Tickets are $40 dollars if interested please call Nancy at 902-322-0731 All proceeds for his event will go to hero’s challenge team in Corey’s memory in support of the Children’s Wish Foundation \n
URL:https://max983.ca/event/childrens-wish-foundation-paint-night/
END:VEVENT
END:VCALENDAR