BEGIN:VCALENDAR
VERSION:2.0
PRODID:-//Max 98.3 - ECPv4.6.26//NONSGML v1.0//EN
CALSCALE:GREGORIAN
METHOD:PUBLISH
X-WR-CALNAME:Max 98.3
X-ORIGINAL-URL:https://max983.ca
X-WR-CALDESC:Events for Max 98.3
BEGIN:VEVENT
DTSTART;TZID=America/Halifax:20231129T093000
DTEND;TZID=America/Halifax:20231129T193000
DTSTAMP:20260424T100100
CREATED:20231106T162154Z
LAST-MODIFIED:20231106T162154Z
UID:13245-1701250200-1701286200@max983.ca
SUMMARY:Christmas Cards for Seniors
DESCRIPTION:Glace Bay Library \nWed Nov 29 \n9:30am-7:30pm \nDrop in to make some homemade Christmas cards for seniors in our community \n
URL:https://max983.ca/event/christmas-cards-for-seniors/
END:VEVENT
END:VCALENDAR