BEGIN:VCALENDAR
VERSION:2.0
PRODID:-//Max 98.3 - ECPv4.6.26//NONSGML v1.0//EN
CALSCALE:GREGORIAN
METHOD:PUBLISH
X-WR-CALNAME:Max 98.3
X-ORIGINAL-URL:https://max983.ca
X-WR-CALDESC:Events for Max 98.3
BEGIN:VEVENT
DTSTART;TZID=America/Halifax:20241127T180000
DTEND;TZID=America/Halifax:20241127T190000
DTSTAMP:20260424T095448
CREATED:20241031T141833Z
LAST-MODIFIED:20241031T141833Z
UID:14288-1732730400-1732734000@max983.ca
SUMMARY:Christmas Countdown crafts
DESCRIPTION:Glace Bay Library \nWed Nov 27  \n6-7pm \nDrop in and join us for Christmas Countdown crafts! \n  \n  \n
URL:https://max983.ca/event/christmas-countdown-crafts/
END:VEVENT
END:VCALENDAR