BEGIN:VCALENDAR
VERSION:2.0
PRODID:-//Max 98.3 - ECPv4.6.26//NONSGML v1.0//EN
CALSCALE:GREGORIAN
METHOD:PUBLISH
X-WR-CALNAME:Max 98.3
X-ORIGINAL-URL:https://max983.ca
X-WR-CALDESC:Events for Max 98.3
BEGIN:VEVENT
DTSTART;TZID=America/Halifax:20171118T100000
DTEND;TZID=America/Halifax:20171118T140000
DTSTAMP:20260424T111945
CREATED:20171107T130250Z
LAST-MODIFIED:20171107T130250Z
UID:3457-1510999200-1511013600@max983.ca
SUMMARY:Christmas Fair
DESCRIPTION:A Christmas Fair will be held at the United Protestant Church hall\, 1524 Kings Road\, Sydney River on Saturday\, November 18th from 10am – 2pm. There will be numerous venders as well as tables of home cooking & crafts. Coffee\, tea and muffins will be served. Admission is  $2 \n
URL:https://max983.ca/event/christmas-fair/
END:VEVENT
END:VCALENDAR