BEGIN:VCALENDAR
VERSION:2.0
PRODID:-//Max 98.3 - ECPv4.6.26//NONSGML v1.0//EN
CALSCALE:GREGORIAN
METHOD:PUBLISH
X-WR-CALNAME:Max 98.3
X-ORIGINAL-URL:https://max983.ca
X-WR-CALDESC:Events for Max 98.3
BEGIN:VEVENT
DTSTART;TZID=America/Halifax:20211127T110000
DTEND;TZID=America/Halifax:20211127T160000
DTSTAMP:20260424T101911
CREATED:20211117T161533Z
LAST-MODIFIED:20211117T161533Z
UID:11148-1638010800-1638028800@max983.ca
SUMMARY:Colbourne Ford\, Colbourne Chrysler Toy & Food drive thru
DESCRIPTION:We’re thrilled to announce that due to the overwhelming success of last years Colbourne Ford Colbourne Chrysler Toy & Food drive-thru\, we are bringing it back for another year! Join us in the parking lot at Centre 200 and you can drive-thru to drop off a new or unwrapped toy\, along with food donations for local food banks on Cape Breton Island. Last year we collected over 800 toys and a cube truck FILLED with food and it was incredible. Eagles players\, along with Screech and the Colbourne Ford French Fry truck will also be on-site from 11 AM-4 PM. Please share so we can make this our most successful food & toy drive to date! \n
URL:https://max983.ca/event/colbourne-ford-colbourne-chrysler-toy-food-drive-thru/
CATEGORIES:Charity Events
ATTACH;FMTTYPE=image/jpeg:https://max983.ca/wp-content/uploads/sites/24/2021/11/256384499_291281973002231_4766309159202277588_n.jpg
END:VEVENT
END:VCALENDAR