BEGIN:VCALENDAR
VERSION:2.0
PRODID:-//Max 98.3 - ECPv4.6.26//NONSGML v1.0//EN
CALSCALE:GREGORIAN
METHOD:PUBLISH
X-WR-CALNAME:Max 98.3
X-ORIGINAL-URL:https://max983.ca
X-WR-CALDESC:Events for Max 98.3
BEGIN:VEVENT
DTSTART;TZID=America/Halifax:20170930T120000
DTEND;TZID=America/Halifax:20170930T170000
DTSTAMP:20260419T205026
CREATED:20170919T124319Z
LAST-MODIFIED:20170919T124319Z
UID:3203-1506772800-1506790800@max983.ca
SUMMARY:Cooking and Bake Sale
DESCRIPTION:Home Cooking & Bake Sale will be held at Mayflower Mall on Saturday\, September 30 starting at 12 noon. Lots of delicious foods made by ladies of Louisbourg-Ceilidh Chapter IODE \n
URL:https://max983.ca/event/cooking-and-bake-sale/
END:VEVENT
END:VCALENDAR