BEGIN:VCALENDAR
VERSION:2.0
PRODID:-//Max 98.3 - ECPv4.6.26//NONSGML v1.0//EN
CALSCALE:GREGORIAN
METHOD:PUBLISH
X-WR-CALNAME:Max 98.3
X-ORIGINAL-URL:https://max983.ca
X-WR-CALDESC:Events for Max 98.3
BEGIN:VEVENT
DTSTART;TZID=America/Halifax:20170805T080000
DTEND;TZID=America/Halifax:20170805T110000
DTSTAMP:20260424T095447
CREATED:20170705T174306Z
LAST-MODIFIED:20170705T174306Z
UID:2914-1501920000-1501930800@max983.ca
SUMMARY:Country Breakfast
DESCRIPTION:Country Breakfast at the Mira Seniors’ and Pensioners Centre\, Marion Bridge on Saturday\, August 5\, 2017 from 8 AM – 11 AM.  Breakfast includes Juice\, Toast\, Scrambled Eggs\, Ham\, Sausage\, Hash Browns\, Coffee or Tea.  Adults: $10\, Children under 12 $5. \n
URL:https://max983.ca/event/country-breakfast/
END:VEVENT
END:VCALENDAR