BEGIN:VCALENDAR
VERSION:2.0
PRODID:-//Max 98.3 - ECPv4.6.26//NONSGML v1.0//EN
CALSCALE:GREGORIAN
METHOD:PUBLISH
X-WR-CALNAME:Max 98.3
X-ORIGINAL-URL:https://max983.ca
X-WR-CALDESC:Events for Max 98.3
BEGIN:VEVENT
DTSTART;TZID=America/Halifax:20240802T140000
DTEND;TZID=America/Halifax:20240802T150000
DTSTAMP:20260419T170309
CREATED:20240729T135303Z
LAST-MODIFIED:20240729T135303Z
UID:14049-1722607200-1722610800@max983.ca
SUMMARY:Crafternoon: Dragon Craft
DESCRIPTION:Glace Bay Library \nFri Aug 2 \n2-3pm \nDrop in and make a dragon craft. \n  \n
URL:https://max983.ca/event/crafternoon-dragon-craft/
END:VEVENT
END:VCALENDAR