BEGIN:VCALENDAR
VERSION:2.0
PRODID:-//Max 98.3 - ECPv4.6.26//NONSGML v1.0//EN
CALSCALE:GREGORIAN
METHOD:PUBLISH
X-WR-CALNAME:Max 98.3
X-ORIGINAL-URL:https://max983.ca
X-WR-CALDESC:Events for Max 98.3
BEGIN:VEVENT
DTSTART;VALUE=DATE:20260521
DTEND;VALUE=DATE:20260522
DTSTAMP:20260421T005931
CREATED:20260420T180119Z
LAST-MODIFIED:20260420T180119Z
UID:15650-1779321600-1779407999@max983.ca
SUMMARY:Crafty Corner: Daffodil craft
DESCRIPTION:Glace Bay Library \nThurs May 21   3:30pm \nMake a cute daffodil craft \n
URL:https://max983.ca/event/crafty-corner-daffodil-craft/
END:VEVENT
END:VCALENDAR