BEGIN:VCALENDAR
VERSION:2.0
PRODID:-//Max 98.3 - ECPv4.6.26//NONSGML v1.0//EN
CALSCALE:GREGORIAN
METHOD:PUBLISH
X-WR-CALNAME:Max 98.3
X-ORIGINAL-URL:https://max983.ca
X-WR-CALDESC:Events for Max 98.3
BEGIN:VEVENT
DTSTART;TZID=America/Halifax:20190511T090000
DTEND;TZID=America/Halifax:20190511T110000
DTSTAMP:20260422T175243
CREATED:20190423T144658Z
LAST-MODIFIED:20190423T144658Z
UID:5905-1557565200-1557572400@max983.ca
SUMMARY:CWL Annual Flea Market
DESCRIPTION:St Theresa’s Catholic Women’s League will hold their Annual Flea Market on Saturday\, May 11th\, 2019 from 9-11 AM at St Theresa’s Parish Centre\, 285 St Peter’s Road\, Sydney. Admission $1.00 per person \n
URL:https://max983.ca/event/cwl-annual-flea-market/
END:VEVENT
END:VCALENDAR