BEGIN:VCALENDAR
VERSION:2.0
PRODID:-//Max 98.3 - ECPv4.6.26//NONSGML v1.0//EN
CALSCALE:GREGORIAN
METHOD:PUBLISH
X-WR-CALNAME:Max 98.3
X-ORIGINAL-URL:https://max983.ca
X-WR-CALDESC:Events for Max 98.3
BEGIN:VEVENT
DTSTART;TZID=America/Halifax:20260202T153000
DTEND;TZID=America/Halifax:20260202T193000
DTSTAMP:20260425T181521
CREATED:20260114T160800Z
LAST-MODIFIED:20260420T174717Z
UID:15333-1770046200-1770060600@max983.ca
SUMMARY:DnD Monday
DESCRIPTION:Glace Bay Library \nEvery Monday 3:30-7:30 \n
URL:https://max983.ca/event/dnd-monday-5/2026-02-02/
END:VEVENT
END:VCALENDAR