BEGIN:VCALENDAR
VERSION:2.0
PRODID:-//Max 98.3 - ECPv4.6.26//NONSGML v1.0//EN
CALSCALE:GREGORIAN
METHOD:PUBLISH
X-WR-CALNAME:Max 98.3
X-ORIGINAL-URL:https://max983.ca
X-WR-CALDESC:Events for Max 98.3
BEGIN:VEVENT
DTSTART;TZID=America/Halifax:20240806T150000
DTEND;TZID=America/Halifax:20240806T160000
DTSTAMP:20260424T111732
CREATED:20240729T135430Z
LAST-MODIFIED:20240729T135430Z
UID:14051-1722956400-1722960000@max983.ca
SUMMARY:Dr G Program
DESCRIPTION:Glace Bay Library \nTues Aug 6 \n3-4pm \nMerging hooky new wave beats with lyrics explaining science and the natural universe\, Dr. G creates a sound that is utterly unique\, and as educational as it is infectious. \n  \n
URL:https://max983.ca/event/dr-g-program/
END:VEVENT
END:VCALENDAR