BEGIN:VCALENDAR
VERSION:2.0
PRODID:-//Max 98.3 - ECPv4.6.26//NONSGML v1.0//EN
CALSCALE:GREGORIAN
METHOD:PUBLISH
X-WR-CALNAME:Max 98.3
X-ORIGINAL-URL:https://max983.ca
X-WR-CALDESC:Events for Max 98.3
BEGIN:VEVENT
DTSTART;TZID=America/Halifax:20190825T150000
DTEND;TZID=America/Halifax:20190825T170000
DTSTAMP:20260424T131940
CREATED:20190806T170149Z
LAST-MODIFIED:20190806T170149Z
UID:6519-1566745200-1566752400@max983.ca
SUMMARY:Echo of Summer
DESCRIPTION:Echo of Summer featuring Coro Contabile \nSunday\, August 25 at 3 PM \nCalvin Presbyterian Church\, Loch Lomond \nSpecial Guests:  Everett Vass\, Mario Colosimo\, Doug Johnson\, Barb Stetter\, Rev Bob Lyle \nFree Will Offering \nHam & Salad Supper (Optional) $15 at the Community Hall \n
URL:https://max983.ca/event/echo-of-summer/
END:VEVENT
END:VCALENDAR