BEGIN:VCALENDAR
VERSION:2.0
PRODID:-//Max 98.3 - ECPv4.6.26//NONSGML v1.0//EN
CALSCALE:GREGORIAN
METHOD:PUBLISH
X-WR-CALNAME:Max 98.3
X-ORIGINAL-URL:https://max983.ca
X-WR-CALDESC:Events for Max 98.3
BEGIN:VEVENT
DTSTART;TZID=America/Halifax:20260509T110000
DTEND;TZID=America/Halifax:20260509T140000
DTSTAMP:20260420T232045
CREATED:20260420T173551Z
LAST-MODIFIED:20260420T173551Z
UID:15640-1778324400-1778335200@max983.ca
SUMMARY:Eltuek Arts Centre Spring Market
DESCRIPTION:Join us for our Spring Market! Just in time for Mother’s Day \nSaturday\, May 9\n11AM–2PM\nEltuek Arts Centre (Gallery 211) \n20+ local vendors featuring baked goods\, handmade items\, and more! \n
URL:https://max983.ca/event/eltuek-arts-centre-spring-market/
END:VEVENT
END:VCALENDAR