BEGIN:VCALENDAR
VERSION:2.0
PRODID:-//Max 98.3 - ECPv4.6.26//NONSGML v1.0//EN
CALSCALE:GREGORIAN
METHOD:PUBLISH
X-WR-CALNAME:Max 98.3
X-ORIGINAL-URL:https://max983.ca
X-WR-CALDESC:Events for Max 98.3
BEGIN:VEVENT
DTSTART;TZID=America/Halifax:20230404T180000
DTEND;TZID=America/Halifax:20230404T190000
DTSTAMP:20260419T190732
CREATED:20230330T174015Z
LAST-MODIFIED:20230330T174015Z
UID:12596-1680631200-1680634800@max983.ca
SUMMARY:English Conversation Practice
DESCRIPTION:Glace Bay Library \nTuesday April 4th \n6pm – 7pm \nAll are welcome to join us at the Library for English Conversation practice.  Brought to you by the IRCC. Registration required.  Please call the library to register. \n  \n
URL:https://max983.ca/event/english-conversation-practice/
END:VEVENT
END:VCALENDAR