BEGIN:VCALENDAR
VERSION:2.0
PRODID:-//Max 98.3 - ECPv4.6.26//NONSGML v1.0//EN
CALSCALE:GREGORIAN
METHOD:PUBLISH
X-WR-CALNAME:Max 98.3
X-ORIGINAL-URL:https://max983.ca
X-WR-CALDESC:Events for Max 98.3
BEGIN:VEVENT
DTSTART;TZID=America/Halifax:20251207T140000
DTEND;TZID=America/Halifax:20251207T160000
DTSTAMP:20260423T152733
CREATED:20251117T140851Z
LAST-MODIFIED:20251117T140851Z
UID:15196-1765116000-1765123200@max983.ca
SUMMARY:Family Christmas Concert
DESCRIPTION:A “Family Christmas Concert” will be held on Sunday\, December 7\, 2025 from 2 – 4 pm at St. Barra Church & Christmas Island Communities Centre at 47 Church Road\, Christmas Island \, NS. Local Talent! Coffee\, Tea\, & Sweets will be served. Admission by Donation. Sponsored by: The Wardens of the Church of St. Barra Preservation and Development Society. Supported by: DCB\, ACOA\, Forty Oaks\, CBRM\, CCTH\, NSGA\, & Efficiency NS. \n
URL:https://max983.ca/event/family-christmas-concert/
END:VEVENT
END:VCALENDAR