BEGIN:VCALENDAR
VERSION:2.0
PRODID:-//Max 98.3 - ECPv4.6.26//NONSGML v1.0//EN
CALSCALE:GREGORIAN
METHOD:PUBLISH
X-WR-CALNAME:Max 98.3
X-ORIGINAL-URL:https://max983.ca
X-WR-CALDESC:Events for Max 98.3
BEGIN:VEVENT
DTSTART;TZID=America/Halifax:20181123T173000
DTEND;TZID=America/Halifax:20181123T210000
DTSTAMP:20260425T172011
CREATED:20181115T190834Z
LAST-MODIFIED:20181115T190834Z
UID:5311-1542994200-1543006800@max983.ca
SUMMARY:Festival of Light in Baddeck
DESCRIPTION:Friday\, Nov 23\, 2018 \n530 PM Tree Lighting and Caroling\, Baddeck Visitor Information Centre \n615 PM Ugly Christmas Sweater Gathering\, The Freight Shed Bistro (on the Wharf) \n530 – 730 PM Branch 53 RCL (Ross Street) Chase the Ace \n730 PM – High School Hockey Game – Civic Centre (Campbell Street) \n
URL:https://max983.ca/event/festival-of-light-in-baddeck/
END:VEVENT
END:VCALENDAR