BEGIN:VCALENDAR
VERSION:2.0
PRODID:-//Max 98.3 - ECPv4.6.26//NONSGML v1.0//EN
CALSCALE:GREGORIAN
METHOD:PUBLISH
X-WR-CALNAME:Max 98.3
X-ORIGINAL-URL:https://max983.ca
X-WR-CALDESC:Events for Max 98.3
BEGIN:VEVENT
DTSTART;TZID=America/Halifax:20170802T180000
DTEND;TZID=America/Halifax:20170802T203000
DTSTAMP:20260420T151826
CREATED:20170727T180733Z
LAST-MODIFIED:20170727T180733Z
UID:3027-1501696800-1501705800@max983.ca
SUMMARY:Finding Kind documentary screening for young women
DESCRIPTION:Date: August 2nd Time: 6 p.m. to 8:30 p.m. Location: 75 Prince Street Sydney\, NS Undercurrent Building (go upstairs) The screening of the documentary ‘Finding Kind’ is open to anyone who identifies as a young woman (grade 6 and older) and open also to their parents\, supporters and mentors. This film is about girl-against-girl bullying and contains important messages. It has been shown throughout North America and has received awards. Call or text 902-304-8901 to secure a seat. \n
URL:https://max983.ca/event/finding-kind-documentary-screening-for-young-women-3/
END:VEVENT
END:VCALENDAR