BEGIN:VCALENDAR
VERSION:2.0
PRODID:-//Max 98.3 - ECPv4.6.26//NONSGML v1.0//EN
CALSCALE:GREGORIAN
METHOD:PUBLISH
X-WR-CALNAME:Max 98.3
X-ORIGINAL-URL:https://max983.ca
X-WR-CALDESC:Events for Max 98.3
BEGIN:VEVENT
DTSTART;TZID=America/Halifax:20190511T210000
DTEND;TZID=America/Halifax:20190512T010000
DTSTAMP:20260424T131921
CREATED:20190429T182526Z
LAST-MODIFIED:20190429T182526Z
UID:5948-1557608400-1557622800@max983.ca
SUMMARY:Flashback Dance
DESCRIPTION:Flashback DANCE with DJ Mike\, SATURDAY\, MAY 11\, 9:00 PM to 1:00 AM\nHAPPY HOUR 9:30 – 10:30 PM\, ADMISSION $10.\nCommunity Hall\, 3921 Gabarus Hwy\, Marion Bridge \n
URL:https://max983.ca/event/flashback-dance/
END:VEVENT
END:VCALENDAR