BEGIN:VCALENDAR
VERSION:2.0
PRODID:-//Max 98.3 - ECPv4.6.26//NONSGML v1.0//EN
CALSCALE:GREGORIAN
METHOD:PUBLISH
X-WR-CALNAME:Max 98.3
X-ORIGINAL-URL:https://max983.ca
X-WR-CALDESC:Events for Max 98.3
BEGIN:VEVENT
DTSTART;TZID=America/Halifax:20181020T090000
DTEND;TZID=America/Halifax:20181020T120000
DTSTAMP:20260422T031951
CREATED:20181019T133713Z
LAST-MODIFIED:20181019T133713Z
UID:5172-1540026000-1540036800@max983.ca
SUMMARY:Flea Market
DESCRIPTION:Flea Market will be held at Warden United Church\, New Aberdeen\, Glace Bay on Saturday\, October 20th from 9 a.m. to 12 p.m. Admission $1. Plenty of excellent buys! \n
URL:https://max983.ca/event/flea-market-2/
END:VEVENT
END:VCALENDAR