BEGIN:VCALENDAR
VERSION:2.0
PRODID:-//Max 98.3 - ECPv4.6.26//NONSGML v1.0//EN
CALSCALE:GREGORIAN
METHOD:PUBLISH
X-WR-CALNAME:Max 98.3
X-ORIGINAL-URL:https://max983.ca
X-WR-CALDESC:Events for Max 98.3
BEGIN:VEVENT
DTSTART;TZID=America/Halifax:20170305T100000
DTEND;TZID=America/Halifax:20170305T120000
DTSTAMP:20260423T184130
CREATED:20170227T175405Z
LAST-MODIFIED:20170227T175405Z
UID:2008-1488708000-1488715200@max983.ca
SUMMARY:Fundraiser Walk for Alzheimers
DESCRIPTION:Our Continuing Care Assistant Group from NSCC is hosting a fundraiser walk to raise awareness for Alzheimer’s. It will be held at the Sullivan Field House at Cape Breton University Sunday\, March 5\, 2017 from 10 am to 12 pm. Everyone Welcome! \n
URL:https://max983.ca/event/fundraiser-walk-for-alzheimers/
END:VEVENT
END:VCALENDAR