BEGIN:VCALENDAR
VERSION:2.0
PRODID:-//Max 98.3 - ECPv4.6.26//NONSGML v1.0//EN
CALSCALE:GREGORIAN
METHOD:PUBLISH
X-WR-CALNAME:Max 98.3
X-ORIGINAL-URL:https://max983.ca
X-WR-CALDESC:Events for Max 98.3
BEGIN:VEVENT
DTSTART;VALUE=DATE:20220805
DTEND;VALUE=DATE:20220806
DTSTAMP:20260423T202310
CREATED:20220803T142626Z
LAST-MODIFIED:20220803T142626Z
UID:11818-1659657600-1659743999@max983.ca
SUMMARY:Grand Opening of the Mira Gut Bridge
DESCRIPTION:The Grand reopening of the Mira Gut Bridge will take place Friday\, August 5th at 1pm. \n  \n
URL:https://max983.ca/event/grand-opening-of-the-mira-gut-bridge/
END:VEVENT
END:VCALENDAR