BEGIN:VCALENDAR
VERSION:2.0
PRODID:-//Max 98.3 - ECPv4.6.26//NONSGML v1.0//EN
CALSCALE:GREGORIAN
METHOD:PUBLISH
X-WR-CALNAME:Max 98.3
X-ORIGINAL-URL:https://max983.ca
X-WR-CALDESC:Events for Max 98.3
BEGIN:VEVENT
DTSTART;TZID=America/Halifax:20170615T110000
DTEND;TZID=America/Halifax:20170615T173000
DTSTAMP:20260421T051229
CREATED:20170605T133245Z
LAST-MODIFIED:20170605T133245Z
UID:2751-1497524400-1497547800@max983.ca
SUMMARY:Ham and Salad Dinner
DESCRIPTION:St. Alban’s Parish Ham and Salad Luncheon Thursday June15th 11 am–5:30pm $10.00 a plate St. Alban’s Parish Hall 15 St Alban’s Lane \, Whitney Pier Take out only. Tickets available by phoning 902-539-4831 or 902-564-5756 Sponsored by St. Alban’s Parish Council \n
URL:https://max983.ca/event/ham-and-salad-dinner/
END:VEVENT
END:VCALENDAR