BEGIN:VCALENDAR
VERSION:2.0
PRODID:-//Max 98.3 - ECPv4.6.26//NONSGML v1.0//EN
CALSCALE:GREGORIAN
METHOD:PUBLISH
X-WR-CALNAME:Max 98.3
X-ORIGINAL-URL:https://max983.ca
X-WR-CALDESC:Events for Max 98.3
BEGIN:VEVENT
DTSTART;TZID=America/Halifax:20180530T110000
DTEND;TZID=America/Halifax:20180530T130000
DTSTAMP:20260423T152602
CREATED:20180523T190425Z
LAST-MODIFIED:20180523T190425Z
UID:3653-1527678000-1527685200@max983.ca
SUMMARY:Ham and Salad Lunch
DESCRIPTION:Ham and salad lunch Wed. may 30th  from 11:00 to 1:Pm. Holy Family Parish Hall 905 main St. Sydney Mines $10.00 each -includes\, Ham\, Salad\, Roll\, Coleslaw and Dessert Take out only Delivery available for 5 or more orders for tickets call Gloria  or Rose 736-0802. \n  \n
URL:https://max983.ca/event/ham-and-salad-lunch/
END:VEVENT
END:VCALENDAR