BEGIN:VCALENDAR
VERSION:2.0
PRODID:-//Max 98.3 - ECPv4.6.26//NONSGML v1.0//EN
CALSCALE:GREGORIAN
METHOD:PUBLISH
X-WR-CALNAME:Max 98.3
X-ORIGINAL-URL:https://max983.ca
X-WR-CALDESC:Events for Max 98.3
BEGIN:VEVENT
DTSTART;TZID=America/Halifax:20170610T173000
DTEND;TZID=America/Halifax:20170610T190000
DTSTAMP:20260420T000659
CREATED:20170518T125039Z
LAST-MODIFIED:20170518T125039Z
UID:2672-1497115800-1497121200@max983.ca
SUMMARY:Ham and Salad Supper
DESCRIPTION:Our Lady of Fatima Parish Annual Ham and Salad Supper June 10\, 2017 at 5:30 pm. Eat-in or take-out available. Tickets available at parish office or Call Frank @ 902-562-2957 or Allan at 902-564-5788 before June 4\, 2017 \n
URL:https://max983.ca/event/ham-and-salad-supper/
END:VEVENT
END:VCALENDAR