BEGIN:VCALENDAR
VERSION:2.0
PRODID:-//Max 98.3 - ECPv4.6.26//NONSGML v1.0//EN
CALSCALE:GREGORIAN
METHOD:PUBLISH
X-WR-CALNAME:Max 98.3
X-ORIGINAL-URL:https://max983.ca
X-WR-CALDESC:Events for Max 98.3
BEGIN:VEVENT
DTSTART;TZID=America/Halifax:20181020T130000
DTEND;TZID=America/Halifax:20181020T150000
DTSTAMP:20260422T050152
CREATED:20181017T130456Z
LAST-MODIFIED:20181017T172212Z
UID:5163-1540040400-1540047600@max983.ca
SUMMARY:High Tea with "Joy the Royal Doyle"
DESCRIPTION:High Tea with Joy the Royal Doyle Date: Saturday\, October 20th\, from 1pm to 3pm Location: St.Theresa’s Parish Hall\, Sydney A great fun afternoon of tea\, conversation and news of the Royals. There will be a raffle \, great door prizes and much more… Tickets are $15 and can be picked up at the lotto booth located at the Mayflower Mall or by calling 9025771244. Event is supporting Bereaved Families of Cape Breton.  Thank you! \n
URL:https://max983.ca/event/high-tea-with-joy-the-royal-doyle/
END:VEVENT
END:VCALENDAR