BEGIN:VCALENDAR
VERSION:2.0
PRODID:-//Max 98.3 - ECPv4.6.26//NONSGML v1.0//EN
CALSCALE:GREGORIAN
METHOD:PUBLISH
X-WR-CALNAME:Max 98.3
X-ORIGINAL-URL:https://max983.ca
X-WR-CALDESC:Events for Max 98.3
BEGIN:VEVENT
DTSTART;TZID=America/Halifax:20230210T100000
DTEND;TZID=America/Halifax:20230210T113000
DTSTAMP:20260419T221829
CREATED:20230202T142754Z
LAST-MODIFIED:20230202T142754Z
UID:12362-1676023200-1676028600@max983.ca
SUMMARY:Homeschool Meet-up
DESCRIPTION:Fri Feb 10\n10am – 11:30am\nGlace Bay Library\nGather with other homeschooling families and connect with conversation and play. \n
URL:https://max983.ca/event/homeschool-meet-up-3/
END:VEVENT
END:VCALENDAR