BEGIN:VCALENDAR
VERSION:2.0
PRODID:-//Max 98.3 - ECPv4.6.26//NONSGML v1.0//EN
CALSCALE:GREGORIAN
METHOD:PUBLISH
X-WR-CALNAME:Max 98.3
X-ORIGINAL-URL:https://max983.ca
X-WR-CALDESC:Events for Max 98.3
BEGIN:VEVENT
DTSTART;TZID=America/Halifax:20230106T100000
DTEND;TZID=America/Halifax:20230106T120000
DTSTAMP:20260420T013901
CREATED:20221230T141601Z
LAST-MODIFIED:20221230T141601Z
UID:12238-1672999200-1673006400@max983.ca
SUMMARY:Homeschool Meet Up
DESCRIPTION:Every Friday Morning 10am – 12am at the Glace Bay Library is the local Homeschool Meet up. \n
URL:https://max983.ca/event/homeschool-meet-up/2023-01-06/
END:VEVENT
END:VCALENDAR