BEGIN:VCALENDAR
VERSION:2.0
PRODID:-//Max 98.3 - ECPv4.6.26//NONSGML v1.0//EN
CALSCALE:GREGORIAN
METHOD:PUBLISH
X-WR-CALNAME:Max 98.3
X-ORIGINAL-URL:https://max983.ca
X-WR-CALDESC:Events for Max 98.3
BEGIN:VEVENT
DTSTART;TZID=America/Halifax:20230519T133000
DTEND;TZID=America/Halifax:20230519T153000
DTSTAMP:20260424T095418
CREATED:20230505T175055Z
LAST-MODIFIED:20230505T175055Z
UID:12743-1684503000-1684510200@max983.ca
SUMMARY:Knitting Circle
DESCRIPTION:Glace Bay Library \nFriday May 19 \n1:30pm – 3:30pm \nAll are welcome to join our knitting circle.  Begin your project or come learn. \n  \n
URL:https://max983.ca/event/knitting-circle-2/
END:VEVENT
END:VCALENDAR