BEGIN:VCALENDAR
VERSION:2.0
PRODID:-//Max 98.3 - ECPv4.6.26//NONSGML v1.0//EN
CALSCALE:GREGORIAN
METHOD:PUBLISH
X-WR-CALNAME:Max 98.3
X-ORIGINAL-URL:https://max983.ca
X-WR-CALDESC:Events for Max 98.3
BEGIN:VEVENT
DTSTART;TZID=America/Halifax:20190915T123000
DTEND;TZID=America/Halifax:20190915T173000
DTSTAMP:20260419T235654
CREATED:20190724T170330Z
LAST-MODIFIED:20190724T170330Z
UID:6396-1568550600-1568568600@max983.ca
SUMMARY:Loch Lomond Motocross
DESCRIPTION:Loch Lomond Motocross \nLocated 10 minutes off Loch Lomond Road in Big Pond \n1230 PM – 530 PM \nAug 18th \nSept 15 \nOct 13 \n
URL:https://max983.ca/event/loch-lomond-motocross-4/
END:VEVENT
END:VCALENDAR