BEGIN:VCALENDAR
VERSION:2.0
PRODID:-//Max 98.3 - ECPv4.6.26//NONSGML v1.0//EN
CALSCALE:GREGORIAN
METHOD:PUBLISH
X-WR-CALNAME:Max 98.3
X-ORIGINAL-URL:https://max983.ca
X-WR-CALDESC:Events for Max 98.3
BEGIN:VEVENT
DTSTART;TZID=America/Halifax:20171107T183000
DTEND;TZID=America/Halifax:20171107T203000
DTSTAMP:20260424T111941
CREATED:20171031T134914Z
LAST-MODIFIED:20171031T134914Z
UID:3438-1510079400-1510086600@max983.ca
SUMMARY:Louisbourg Library
DESCRIPTION:A Visit From Author Lesley Crewe\nLouisbourg Library (10 Upper Warren St.\, Louisbourg)\nTuesday\, Nov. 7th\n6:30 PM\n\nAs part of the Libraries 150 Books of Influence initiative\, join author\nLesley Crewe as she reads from some of her popular books and talks\nabout the trials and tribulations as a nationally-renowned author\nand freelance writer!\n  \nBooks available for purchase and signing!\n  \nTea and light refreshments will be served.\n  \nFree event. Call the Louisbourg Library for more info. 902-733-3608 \n  \n  \nAbout the Author:     Lesley Crewe is a columnist for The Chronicle Herald\, screenwriter\, and author of nine novels\, including Relative Happiness\, which was short-listed for the   Margaret and John Savage First Book Award in 2006\, and Mary\, Mary\, which was short-listed for the Stephen Leacock Prize for Humour in 2017. She co-wrote the screenplay for the movie Relative Happiness\, which won Best Picture at the Nova Scotia Screen Awards in 2015. Visit her at www.lesleycrewe.com \n
URL:https://max983.ca/event/louisbourg-library/
END:VEVENT
END:VCALENDAR