BEGIN:VCALENDAR
VERSION:2.0
PRODID:-//Max 98.3 - ECPv4.6.26//NONSGML v1.0//EN
CALSCALE:GREGORIAN
METHOD:PUBLISH
X-WR-CALNAME:Max 98.3
X-ORIGINAL-URL:https://max983.ca
X-WR-CALDESC:Events for Max 98.3
BEGIN:VEVENT
DTSTART;TZID=America/Halifax:20190509T183000
DTEND;TZID=America/Halifax:20190509T203000
DTSTAMP:20260422T194814
CREATED:20190501T173918Z
LAST-MODIFIED:20190501T173918Z
UID:5991-1557426600-1557433800@max983.ca
SUMMARY:McConnell Library
DESCRIPTION:There will be a special Chinese Cultural program for the general public at the McConnell Library next Thursday evening starting at 6:30pm May 9th by the CBU Chinese Cultural Club. \n
URL:https://max983.ca/event/mcconnell-library-26/
END:VEVENT
END:VCALENDAR